BEGIN:VCALENDAR
VERSION:2.0
PRODID:-//ProPatria - ECPv6.15.14//NONSGML v1.0//EN
CALSCALE:GREGORIAN
METHOD:PUBLISH
X-ORIGINAL-URL:https://propatria.nl
X-WR-CALDESC:Evenementen voor ProPatria
REFRESH-INTERVAL;VALUE=DURATION:PT1H
X-Robots-Tag:noindex
X-PUBLISHED-TTL:PT1H
BEGIN:VTIMEZONE
TZID:Europe/Amsterdam
BEGIN:DAYLIGHT
TZOFFSETFROM:+0100
TZOFFSETTO:+0200
TZNAME:CEST
DTSTART:20210328T010000
END:DAYLIGHT
BEGIN:STANDARD
TZOFFSETFROM:+0200
TZOFFSETTO:+0100
TZNAME:CET
DTSTART:20211031T010000
END:STANDARD
BEGIN:DAYLIGHT
TZOFFSETFROM:+0100
TZOFFSETTO:+0200
TZNAME:CEST
DTSTART:20220327T010000
END:DAYLIGHT
BEGIN:STANDARD
TZOFFSETFROM:+0200
TZOFFSETTO:+0100
TZNAME:CET
DTSTART:20221030T010000
END:STANDARD
BEGIN:DAYLIGHT
TZOFFSETFROM:+0100
TZOFFSETTO:+0200
TZNAME:CEST
DTSTART:20230326T010000
END:DAYLIGHT
BEGIN:STANDARD
TZOFFSETFROM:+0200
TZOFFSETTO:+0100
TZNAME:CET
DTSTART:20231029T010000
END:STANDARD
BEGIN:DAYLIGHT
TZOFFSETFROM:+0100
TZOFFSETTO:+0200
TZNAME:CEST
DTSTART:20240331T010000
END:DAYLIGHT
BEGIN:STANDARD
TZOFFSETFROM:+0200
TZOFFSETTO:+0100
TZNAME:CET
DTSTART:20241027T010000
END:STANDARD
BEGIN:DAYLIGHT
TZOFFSETFROM:+0100
TZOFFSETTO:+0200
TZNAME:CEST
DTSTART:20250330T010000
END:DAYLIGHT
BEGIN:STANDARD
TZOFFSETFROM:+0200
TZOFFSETTO:+0100
TZNAME:CET
DTSTART:20251026T010000
END:STANDARD
BEGIN:DAYLIGHT
TZOFFSETFROM:+0100
TZOFFSETTO:+0200
TZNAME:CEST
DTSTART:20260329T010000
END:DAYLIGHT
BEGIN:STANDARD
TZOFFSETFROM:+0200
TZOFFSETTO:+0100
TZNAME:CET
DTSTART:20261025T010000
END:STANDARD
BEGIN:DAYLIGHT
TZOFFSETFROM:+0100
TZOFFSETTO:+0200
TZNAME:CEST
DTSTART:20270328T010000
END:DAYLIGHT
BEGIN:STANDARD
TZOFFSETFROM:+0200
TZOFFSETTO:+0100
TZNAME:CET
DTSTART:20271031T010000
END:STANDARD
END:VTIMEZONE
BEGIN:VTIMEZONE
TZID:UTC
BEGIN:STANDARD
TZOFFSETFROM:+0000
TZOFFSETTO:+0000
TZNAME:UTC
DTSTART:20210101T000000
END:STANDARD
END:VTIMEZONE
BEGIN:VEVENT
DTSTART;VALUE=DATE:20260405
DTEND;VALUE=DATE:20260407
DTSTAMP:20260424T153936
CREATED:20251010T195921Z
LAST-MODIFIED:20251010T195921Z
UID:15077-1775347200-1775519999@propatria.nl
SUMMARY:Pasen (geen les)
DESCRIPTION:
URL:https://propatria.nl/event/pasen-geen-les/
CATEGORIES:Vakantie
END:VEVENT
BEGIN:VEVENT
DTSTART;VALUE=DATE:20260403
DTEND;VALUE=DATE:20260404
DTSTAMP:20260424T153936
CREATED:20251010T195724Z
LAST-MODIFIED:20251010T195724Z
UID:15075-1775174400-1775260799@propatria.nl
SUMMARY:Goede Vrijdag (geen les)
DESCRIPTION:
URL:https://propatria.nl/event/goede-vrijdag-geen-les/
CATEGORIES:Vakantie
END:VEVENT
BEGIN:VEVENT
DTSTART;VALUE=DATE:20260216
DTEND;VALUE=DATE:20260223
DTSTAMP:20260424T153936
CREATED:20251010T195555Z
LAST-MODIFIED:20251010T195555Z
UID:15073-1771200000-1771804799@propatria.nl
SUMMARY:Voorjaarsvakantie (geen les)
DESCRIPTION:
URL:https://propatria.nl/event/voorjaarsvakantie-geen-les-2/
CATEGORIES:Vakantie
END:VEVENT
BEGIN:VEVENT
DTSTART;VALUE=DATE:20251222
DTEND;VALUE=DATE:20260105
DTSTAMP:20260424T153936
CREATED:20251010T195300Z
LAST-MODIFIED:20251010T195300Z
UID:15071-1766361600-1767571199@propatria.nl
SUMMARY:Kerstvakantie (geen les)
DESCRIPTION:
URL:https://propatria.nl/event/kerstvakantie-geen-les-2/
CATEGORIES:Vakantie
END:VEVENT
BEGIN:VEVENT
DTSTART;VALUE=DATE:20251020
DTEND;VALUE=DATE:20251027
DTSTAMP:20260424T153936
CREATED:20251010T194709Z
LAST-MODIFIED:20251010T195405Z
UID:15063-1760918400-1761523199@propatria.nl
SUMMARY:Herfstvakantie (geen les)
DESCRIPTION:
URL:https://propatria.nl/event/herfstvakantie-4/
CATEGORIES:Vakantie
END:VEVENT
BEGIN:VEVENT
DTSTART;TZID=Europe/Amsterdam:20250718T120000
DTEND;TZID=Europe/Amsterdam:20250831T230000
DTSTAMP:20260424T153936
CREATED:20241204T215115Z
LAST-MODIFIED:20241204T215123Z
UID:14829-1752840000-1756681200@propatria.nl
SUMMARY:Zomervakantie (geen les)
DESCRIPTION:Breedtesportlessen vervallen; voor andere lessen informeer bij de trainer.
URL:https://propatria.nl/event/zomervakantie-4/
CATEGORIES:Vakantie
END:VEVENT
BEGIN:VEVENT
DTSTART;VALUE=DATE:20250608
DTEND;VALUE=DATE:20250610
DTSTAMP:20260424T153936
CREATED:20241204T215018Z
LAST-MODIFIED:20241204T215018Z
UID:14826-1749340800-1749513599@propatria.nl
SUMMARY:Pinksteren (geen les)
DESCRIPTION:Breedtesportlessen vervallen; voor andere lessen informeer bij de trainer.
URL:https://propatria.nl/event/pinksteren-geen-les/
CATEGORIES:Vakantie
END:VEVENT
BEGIN:VEVENT
DTSTART;VALUE=DATE:20250531
DTEND;VALUE=DATE:20250601
DTSTAMP:20260424T153936
CREATED:20241204T214909Z
LAST-MODIFIED:20241204T214909Z
UID:14824-1748649600-1748735999@propatria.nl
SUMMARY:Zaterdag na hemelvaart (wel les)
DESCRIPTION:
URL:https://propatria.nl/event/zaterdag-na-hemelvaart-wel-les/
CATEGORIES:Vakantie
END:VEVENT
BEGIN:VEVENT
DTSTART;VALUE=DATE:20250529
DTEND;VALUE=DATE:20250531
DTSTAMP:20260424T153936
CREATED:20241204T214831Z
LAST-MODIFIED:20241204T214831Z
UID:14822-1748476800-1748649599@propatria.nl
SUMMARY:Hemelvaartsdag (en vrijdag) (geen les)
DESCRIPTION:Breedtesportlessen vervallen; voor andere lessen informeer bij de trainer.
URL:https://propatria.nl/event/hemelvaartsdag-en-vrijdag-geen-les/
CATEGORIES:Vakantie
END:VEVENT
BEGIN:VEVENT
DTSTART;VALUE=DATE:20250418
DTEND;VALUE=DATE:20250506
DTSTAMP:20260424T153936
CREATED:20241204T214708Z
LAST-MODIFIED:20241204T214708Z
UID:14815-1744934400-1746489599@propatria.nl
SUMMARY:Meivakantie (geen les)
DESCRIPTION:Goede Vrijdag / Pasen / Meivakantie / Bevrijdingsdag. \nBreedtesportlessen vervallen; voor andere lessen informeer bij de trainer.
URL:https://propatria.nl/event/meivakantie-geen-les/
CATEGORIES:Vakantie
END:VEVENT
BEGIN:VEVENT
DTSTART;VALUE=DATE:20250224
DTEND;VALUE=DATE:20250303
DTSTAMP:20260424T153936
CREATED:20241204T214530Z
LAST-MODIFIED:20241204T214530Z
UID:14813-1740355200-1740959999@propatria.nl
SUMMARY:Voorjaarsvakantie (geen les)
DESCRIPTION:Breedtesportlessen vervallen; voor andere lessen informeer bij de trainer.
URL:https://propatria.nl/event/voorjaarsvakantie-geen-les/
CATEGORIES:Vakantie
END:VEVENT
BEGIN:VEVENT
DTSTART;VALUE=DATE:20241223
DTEND;VALUE=DATE:20250106
DTSTAMP:20260424T153936
CREATED:20241204T214438Z
LAST-MODIFIED:20241204T214438Z
UID:14811-1734912000-1736121599@propatria.nl
SUMMARY:Kerstvakantie (geen les)
DESCRIPTION:Breedtesportlessen vervallen; voor andere lessen informeer bij de trainer.
URL:https://propatria.nl/event/kerstvakantie-geen-les/
CATEGORIES:Vakantie
END:VEVENT
BEGIN:VEVENT
DTSTART;VALUE=DATE:20241028
DTEND;VALUE=DATE:20241104
DTSTAMP:20260424T153936
CREATED:20240901T121405Z
LAST-MODIFIED:20240901T121405Z
UID:14614-1730073600-1730678399@propatria.nl
SUMMARY:Herfstvakantie
DESCRIPTION:
URL:https://propatria.nl/event/herfstvakantie-3/
CATEGORIES:Vakantie
END:VEVENT
BEGIN:VEVENT
DTSTART;VALUE=DATE:20240519
DTEND;VALUE=DATE:20240521
DTSTAMP:20260424T153936
CREATED:20230927T202714Z
LAST-MODIFIED:20240321T212021Z
UID:14076-1716076800-1716249599@propatria.nl
SUMMARY:Pinksteren (geen les)
DESCRIPTION:
URL:https://propatria.nl/event/pinksteren-2/
CATEGORIES:Vakantie
END:VEVENT
BEGIN:VEVENT
DTSTART;VALUE=DATE:20240427
DTEND;VALUE=DATE:20240511
DTSTAMP:20260424T153936
CREATED:20230927T202636Z
LAST-MODIFIED:20240321T212107Z
UID:14074-1714176000-1715385599@propatria.nl
SUMMARY:Meivakantie (geen les)
DESCRIPTION:Koningsdag\, meivakantie en Hemelvaart
URL:https://propatria.nl/event/meivakantie-3/
CATEGORIES:Vakantie
END:VEVENT
BEGIN:VEVENT
DTSTART;VALUE=DATE:20240329
DTEND;VALUE=DATE:20240402
DTSTAMP:20260424T153936
CREATED:20230927T202534Z
LAST-MODIFIED:20240321T211956Z
UID:14072-1711670400-1712015999@propatria.nl
SUMMARY:Goede Vrijdag/Pasen (geen les)
DESCRIPTION:
URL:https://propatria.nl/event/goede-vrijdag-pasen-2/
CATEGORIES:Vakantie
END:VEVENT
BEGIN:VEVENT
DTSTART;VALUE=DATE:20240219
DTEND;VALUE=DATE:20240226
DTSTAMP:20260424T153936
CREATED:20230927T202454Z
LAST-MODIFIED:20230927T202454Z
UID:14070-1708300800-1708905599@propatria.nl
SUMMARY:Voorjaarsvakantie
DESCRIPTION:
URL:https://propatria.nl/event/voorjaarsvakantie-3/
CATEGORIES:Vakantie
END:VEVENT
BEGIN:VEVENT
DTSTART;VALUE=DATE:20231224
DTEND;VALUE=DATE:20240108
DTSTAMP:20260424T153936
CREATED:20230927T202415Z
LAST-MODIFIED:20230927T202415Z
UID:14068-1703376000-1704671999@propatria.nl
SUMMARY:Kerstvakantie
DESCRIPTION:
URL:https://propatria.nl/event/kerstvakantie-3/
CATEGORIES:Vakantie
END:VEVENT
BEGIN:VEVENT
DTSTART;VALUE=DATE:20231016
DTEND;VALUE=DATE:20231023
DTSTAMP:20260424T153936
CREATED:20230927T202337Z
LAST-MODIFIED:20230927T202337Z
UID:14066-1697414400-1698019199@propatria.nl
SUMMARY:Herfstvakantie
DESCRIPTION:
URL:https://propatria.nl/event/herfstvakantie-2/
CATEGORIES:Vakantie
END:VEVENT
BEGIN:VEVENT
DTSTART;VALUE=DATE:20230707
DTEND;VALUE=DATE:20230821
DTSTAMP:20260424T153936
CREATED:20220912T143045Z
LAST-MODIFIED:20220912T143045Z
UID:12637-1688688000-1692575999@propatria.nl
SUMMARY:Zomervakantie
DESCRIPTION:Tijdens de zomervakantie zijn er geen lessen breedtesport.
URL:https://propatria.nl/event/zomervakantie-3/
CATEGORIES:Vakantie
END:VEVENT
BEGIN:VEVENT
DTSTART;VALUE=DATE:20230529
DTEND;VALUE=DATE:20230530
DTSTAMP:20260424T153936
CREATED:20220912T143000Z
LAST-MODIFIED:20220912T143000Z
UID:12635-1685318400-1685404799@propatria.nl
SUMMARY:Pinksteren
DESCRIPTION:Tijdens pinksteren zijn er geen lessen breedtesport.
URL:https://propatria.nl/event/pinksteren/
CATEGORIES:Vakantie
END:VEVENT
BEGIN:VEVENT
DTSTART;VALUE=DATE:20230518
DTEND;VALUE=DATE:20230519
DTSTAMP:20260424T153936
CREATED:20220912T142912Z
LAST-MODIFIED:20220912T142912Z
UID:12633-1684368000-1684454399@propatria.nl
SUMMARY:Hemelvaartsdag
DESCRIPTION:Tijdens hemelvaartsdag zijn er geen lessen breedtesport.
URL:https://propatria.nl/event/hemelvaartsdag/
CATEGORIES:Vakantie
END:VEVENT
BEGIN:VEVENT
DTSTART;VALUE=DATE:20230424
DTEND;VALUE=DATE:20230508
DTSTAMP:20260424T153936
CREATED:20220912T142826Z
LAST-MODIFIED:20220912T142826Z
UID:12631-1682294400-1683503999@propatria.nl
SUMMARY:Meivakantie
DESCRIPTION:Tijdens de meivakantie zijn er geen lessen breedtesport.
URL:https://propatria.nl/event/meivakantie-2/
CATEGORIES:Vakantie
END:VEVENT
BEGIN:VEVENT
DTSTART;VALUE=DATE:20230407
DTEND;VALUE=DATE:20230411
DTSTAMP:20260424T153936
CREATED:20220912T142747Z
LAST-MODIFIED:20220912T142747Z
UID:12629-1680825600-1681171199@propatria.nl
SUMMARY:Paasvakantie
DESCRIPTION:Tijdens de paasvakantie zijn er geen lessen breedtesport.
URL:https://propatria.nl/event/paasvakantie/
CATEGORIES:Vakantie
END:VEVENT
BEGIN:VEVENT
DTSTART;VALUE=DATE:20230227
DTEND;VALUE=DATE:20230306
DTSTAMP:20260424T153936
CREATED:20220912T142706Z
LAST-MODIFIED:20220912T142706Z
UID:12627-1677456000-1678060799@propatria.nl
SUMMARY:Voorjaarsvakantie
DESCRIPTION:Tijdens de voorjaarsvakantie zijn er geen lessen breedtesport.
URL:https://propatria.nl/event/voorjaarsvakantie-2/
CATEGORIES:Vakantie
END:VEVENT
BEGIN:VEVENT
DTSTART;VALUE=DATE:20221224
DTEND;VALUE=DATE:20230109
DTSTAMP:20260424T153936
CREATED:20220912T142623Z
LAST-MODIFIED:20220912T142623Z
UID:12625-1671840000-1673222399@propatria.nl
SUMMARY:Kerstvakantie
DESCRIPTION:Tijdens de kerstvakantie zijn er geen lessen breedtesport.
URL:https://propatria.nl/event/kerstvakantie-2/
CATEGORIES:Vakantie
END:VEVENT
BEGIN:VEVENT
DTSTART;VALUE=DATE:20221024
DTEND;VALUE=DATE:20221031
DTSTAMP:20260424T153936
CREATED:20220912T142536Z
LAST-MODIFIED:20220912T144512Z
UID:12623-1666569600-1667174399@propatria.nl
SUMMARY:Herstvakantie
DESCRIPTION:Tijdens de herstvakantie zijn er geen lessen breedtesport.
URL:https://propatria.nl/event/herstvakantie/
CATEGORIES:Vakantie
END:VEVENT
BEGIN:VEVENT
DTSTART;VALUE=DATE:20220708
DTEND;VALUE=DATE:20220822
DTSTAMP:20260424T153936
CREATED:20211015T215507Z
LAST-MODIFIED:20211015T215507Z
UID:12127-1657238400-1661126399@propatria.nl
SUMMARY:Zomervakantie
DESCRIPTION:Tijdens de zomervakantie gaan de breedtesport- en recreatielessen niet door.
URL:https://propatria.nl/event/zomervakantie-2/
CATEGORIES:Vakantie
END:VEVENT
BEGIN:VEVENT
DTSTART;VALUE=DATE:20220606
DTEND;VALUE=DATE:20220607
DTSTAMP:20260424T153936
CREATED:20211015T215414Z
LAST-MODIFIED:20211015T215554Z
UID:12125-1654473600-1654559999@propatria.nl
SUMMARY:Tweede Pinksterdag
DESCRIPTION:Tijdens Tweede Pinksterdag gaan de breedtesport- en recreatielessen niet door.
URL:https://propatria.nl/event/tweede-pinksterdag/
CATEGORIES:Vakantie
END:VEVENT
BEGIN:VEVENT
DTSTART;VALUE=DATE:20220526
DTEND;VALUE=DATE:20220527
DTSTAMP:20260424T153936
CREATED:20211015T215257Z
LAST-MODIFIED:20211030T200926Z
UID:12123-1653523200-1653609599@propatria.nl
SUMMARY:Hemelvaart
DESCRIPTION:Tijdens de Hemelvaart gaan de breedtesport- en recreatielessen niet door.
URL:https://propatria.nl/event/hemelvaart/
CATEGORIES:Vakantie
END:VEVENT
END:VCALENDAR