BEGIN:VCALENDAR
VERSION:2.0
PRODID:-//ProPatria - ECPv6.15.14//NONSGML v1.0//EN
CALSCALE:GREGORIAN
METHOD:PUBLISH
X-WR-CALNAME:ProPatria
X-ORIGINAL-URL:https://propatria.nl
X-WR-CALDESC:Evenementen voor ProPatria
REFRESH-INTERVAL;VALUE=DURATION:PT1H
X-Robots-Tag:noindex
X-PUBLISHED-TTL:PT1H
BEGIN:VTIMEZONE
TZID:Europe/Amsterdam
BEGIN:DAYLIGHT
TZOFFSETFROM:+0100
TZOFFSETTO:+0200
TZNAME:CEST
DTSTART:20250330T010000
END:DAYLIGHT
BEGIN:STANDARD
TZOFFSETFROM:+0200
TZOFFSETTO:+0100
TZNAME:CET
DTSTART:20251026T010000
END:STANDARD
BEGIN:DAYLIGHT
TZOFFSETFROM:+0100
TZOFFSETTO:+0200
TZNAME:CEST
DTSTART:20260329T010000
END:DAYLIGHT
BEGIN:STANDARD
TZOFFSETFROM:+0200
TZOFFSETTO:+0100
TZNAME:CET
DTSTART:20261025T010000
END:STANDARD
BEGIN:DAYLIGHT
TZOFFSETFROM:+0100
TZOFFSETTO:+0200
TZNAME:CEST
DTSTART:20270328T010000
END:DAYLIGHT
BEGIN:STANDARD
TZOFFSETFROM:+0200
TZOFFSETTO:+0100
TZNAME:CET
DTSTART:20271031T010000
END:STANDARD
END:VTIMEZONE
BEGIN:VEVENT
DTSTART;VALUE=DATE:20260427
DTEND;VALUE=DATE:20260504
DTSTAMP:20260424T154515
CREATED:20251010T200052Z
LAST-MODIFIED:20251010T200140Z
UID:15079-1777248000-1777852799@propatria.nl
SUMMARY:Meivakantie (geen les)
DESCRIPTION:
URL:https://propatria.nl/event/meivakantie-4/
CATEGORIES:Vakantie
END:VEVENT
BEGIN:VEVENT
DTSTART;VALUE=DATE:20260505
DTEND;VALUE=DATE:20260506
DTSTAMP:20260424T154515
CREATED:20251010T200210Z
LAST-MODIFIED:20251010T200257Z
UID:15082-1777939200-1778025599@propatria.nl
SUMMARY:Bevrijdingsdag (geen les)
DESCRIPTION:
URL:https://propatria.nl/event/bevrijdingsdag/
CATEGORIES:Vakantie
END:VEVENT
BEGIN:VEVENT
DTSTART;VALUE=DATE:20260514
DTEND;VALUE=DATE:20260515
DTSTAMP:20260424T154515
CREATED:20251010T200354Z
LAST-MODIFIED:20251010T200354Z
UID:15085-1778716800-1778803199@propatria.nl
SUMMARY:Hemelvaartsdag (geen les)
DESCRIPTION:
URL:https://propatria.nl/event/hemelvaartsdag-geen-les/
CATEGORIES:Vakantie
END:VEVENT
BEGIN:VEVENT
DTSTART;VALUE=DATE:20260524
DTEND;VALUE=DATE:20260526
DTSTAMP:20260424T154515
CREATED:20251010T200518Z
LAST-MODIFIED:20251010T200518Z
UID:15088-1779580800-1779753599@propatria.nl
SUMMARY:Pinksteren (geen les)
DESCRIPTION:
URL:https://propatria.nl/event/pinksteren-geen-les-2/
CATEGORIES:Vakantie
END:VEVENT
BEGIN:VEVENT
DTSTART;TZID=Europe/Amsterdam:20260717T120000
DTEND;TZID=Europe/Amsterdam:20260830T233000
DTSTAMP:20260424T154515
CREATED:20251010T200818Z
LAST-MODIFIED:20251010T200818Z
UID:15090-1784289600-1788132600@propatria.nl
SUMMARY:Zomervakantie (geen les)
DESCRIPTION:
URL:https://propatria.nl/event/zomervakantie-geen-les/
CATEGORIES:Vakantie
END:VEVENT
END:VCALENDAR